BEGIN:VCALENDAR
VERSION:2.0
PRODID:-//Tom Bass - ECPv6.15.16//NONSGML v1.0//EN
CALSCALE:GREGORIAN
METHOD:PUBLISH
X-ORIGINAL-URL:https://www.tbsss.org.au
X-WR-CALDESC:Events for Tom Bass
REFRESH-INTERVAL;VALUE=DURATION:PT1H
X-Robots-Tag:noindex
X-PUBLISHED-TTL:PT1H
BEGIN:VTIMEZONE
TZID:Australia/Sydney
BEGIN:STANDARD
TZOFFSETFROM:+1100
TZOFFSETTO:+1000
TZNAME:AEST
DTSTART:20250405T160000
END:STANDARD
BEGIN:DAYLIGHT
TZOFFSETFROM:+1000
TZOFFSETTO:+1100
TZNAME:AEDT
DTSTART:20251004T160000
END:DAYLIGHT
BEGIN:STANDARD
TZOFFSETFROM:+1100
TZOFFSETTO:+1000
TZNAME:AEST
DTSTART:20260404T160000
END:STANDARD
BEGIN:DAYLIGHT
TZOFFSETFROM:+1000
TZOFFSETTO:+1100
TZNAME:AEDT
DTSTART:20261003T160000
END:DAYLIGHT
BEGIN:STANDARD
TZOFFSETFROM:+1100
TZOFFSETTO:+1000
TZNAME:AEST
DTSTART:20270403T160000
END:STANDARD
BEGIN:DAYLIGHT
TZOFFSETFROM:+1000
TZOFFSETTO:+1100
TZNAME:AEDT
DTSTART:20271002T160000
END:DAYLIGHT
END:VTIMEZONE
BEGIN:VEVENT
DTSTART;TZID=Australia/Sydney:20260421T180000
DTEND;TZID=Australia/Sydney:20260623T210000
DTSTAMP:20260419T224150
CREATED:20161024T145817Z
LAST-MODIFIED:20260409T035013Z
UID:2220-1776794400-1782248400@www.tbsss.org.au
SUMMARY:Tuesday EVE
DESCRIPTION:For Term 2\, 2026\, this term workshop runs for 10 weeks and students attend a 3 hour workshop each week. These workshops are for all skill levels and aim to develop students’ knowledge and understanding of all aspects of creating sculpture in a range of media. Students are encouraged to create works they want\, Teachers are there to give guidance and advice when necessary. Students can start on any term throughout the year.
URL:https://www.tbsss.org.au/class/tuesday-evening-workshop/
LOCATION:Tom Bass Sculpture Studio School\,  1A Clara Street\, Erskineville\, NSW\, 2043\, Australia
CATEGORIES:Term Classes
ATTACH;FMTTYPE=image/webp:https://www.tbsss.org.au/wp-content/uploads/2025/08/width_2400.webp
END:VEVENT
BEGIN:VEVENT
DTSTART;TZID=Australia/Sydney:20260422T100000
DTEND;TZID=Australia/Sydney:20260624T130000
DTSTAMP:20260419T224150
CREATED:20161030T162024Z
LAST-MODIFIED:20260407T230018Z
UID:2284-1776852000-1782306000@www.tbsss.org.au
SUMMARY:Wednesday AM
DESCRIPTION:For Term 2\, 2026\, this term workshop runs for 10 weeks and students attend a 3 hour workshop each week. These workshops are for all skill levels and aim to develop students’ knowledge and understanding of all aspects of creating sculpture in a range of media. Students are encouraged to create works they want\, Teachers are there to give guidance and advice when necessary. Students can start on any term throughout the year.
URL:https://www.tbsss.org.au/class/wednesday-morning-workshop/
LOCATION:Tom Bass Sculpture Studio School\,  1A Clara Street\, Erskineville\, NSW\, 2043\, Australia
CATEGORIES:Term Classes
ATTACH;FMTTYPE=image/jpeg:https://www.tbsss.org.au/wp-content/uploads/2025/09/Tom_Bass_Sculpture_Studio_IMG_3461.jpg
END:VEVENT
BEGIN:VEVENT
DTSTART;TZID=Australia/Sydney:20260422T133000
DTEND;TZID=Australia/Sydney:20260624T163000
DTSTAMP:20260419T224150
CREATED:20190129T232758Z
LAST-MODIFIED:20260407T230147Z
UID:4641-1776864600-1782318600@www.tbsss.org.au
SUMMARY:Wednesday PM
DESCRIPTION:For Term 2\, 2026\, this term workshop runs for 10 weeks and students attend a 3 hour workshop each week. These workshops are for all skill levels and aim to develop students’ knowledge and understanding of all aspects of creating sculpture in a range of media. Students are encouraged to create works they want\, Teachers are there to give guidance and advice when necessary. Students can start on any term throughout the year.
URL:https://www.tbsss.org.au/class/wednesday-afternoon-workshop/
LOCATION:Tom Bass Sculpture Studio School\,  1A Clara Street\, Erskineville\, NSW\, 2043\, Australia
CATEGORIES:Term Classes
ATTACH;FMTTYPE=image/jpeg:https://www.tbsss.org.au/wp-content/uploads/2025/09/Tom_Bass_Sculpture_Studio_DSC_1659.jpg
END:VEVENT
BEGIN:VEVENT
DTSTART;TZID=Australia/Sydney:20260422T180000
DTEND;TZID=Australia/Sydney:20260624T210000
DTSTAMP:20260419T224150
CREATED:20161030T163248Z
LAST-MODIFIED:20260407T230229Z
UID:2288-1776880800-1782334800@www.tbsss.org.au
SUMMARY:Wednesday EVE
DESCRIPTION:For Term 2\, 2026\, this term workshop runs for 10 weeks and students attend a 3 hour workshop each week. These workshops are for all skill levels and aim to develop students’ knowledge and understanding of all aspects of creating sculpture in a range of media. Students are encouraged to create works they want\, Teachers are there to give guidance and advice when necessary. Students can start on any term throughout the year.
URL:https://www.tbsss.org.au/class/wednesday-evening-workshop/
LOCATION:Tom Bass Sculpture Studio School\,  1A Clara Street\, Erskineville\, NSW\, 2043\, Australia
CATEGORIES:Term Classes
ATTACH;FMTTYPE=image/jpeg:https://www.tbsss.org.au/wp-content/uploads/2016/10/IMG_4367.jpg
END:VEVENT
BEGIN:VEVENT
DTSTART;TZID=Australia/Sydney:20260423T100000
DTEND;TZID=Australia/Sydney:20260625T130000
DTSTAMP:20260419T224150
CREATED:20161030T163659Z
LAST-MODIFIED:20260416T045351Z
UID:2292-1776938400-1782392400@www.tbsss.org.au
SUMMARY:Thursday AM
DESCRIPTION:For Term 2\, 2026\, this term workshop runs for 10 weeks and students attend a 3 hour workshop each week. These workshops are for all skill levels and aim to develop students’ knowledge and understanding of all aspects of creating sculpture in a range of media. Students are encouraged to create works they want\, Teachers are there to give guidance and advice when necessary. Students can start on any term throughout the year.
URL:https://www.tbsss.org.au/class/thursday-morning-workshop/
LOCATION:Tom Bass Sculpture Studio School\,  1A Clara Street\, Erskineville\, NSW\, 2043\, Australia
CATEGORIES:Term Classes
ATTACH;FMTTYPE=image/jpeg:https://www.tbsss.org.au/wp-content/uploads/2025/09/Tom_Bass_Sculpture_Studio_DSC_0971.jpg
END:VEVENT
BEGIN:VEVENT
DTSTART;TZID=Australia/Sydney:20260423T133000
DTEND;TZID=Australia/Sydney:20260625T163000
DTSTAMP:20260419T224150
CREATED:20161030T164109Z
LAST-MODIFIED:20260409T035144Z
UID:2296-1776951000-1782405000@www.tbsss.org.au
SUMMARY:Thursday PM
DESCRIPTION:For Term 2\, 2026\, this term workshop runs for 10 weeks and students attend a 3 hour workshop each week. These workshops are for all skill levels and aim to develop students’ knowledge and understanding of all aspects of creating sculpture in a range of media. Students are encouraged to create works they want\, Teachers are there to give guidance and advice when necessary. Students can start on any term throughout the year.
URL:https://www.tbsss.org.au/class/thursday-afternoon-workshop/
LOCATION:Tom Bass Sculpture Studio School\,  1A Clara Street\, Erskineville\, NSW\, 2043\, Australia
CATEGORIES:Term Classes
ATTACH;FMTTYPE=image/jpeg:https://www.tbsss.org.au/wp-content/uploads/2025/09/Tom_Bass_Sculpture_Studio_DSC_0369.jpg
END:VEVENT
BEGIN:VEVENT
DTSTART;TZID=Australia/Sydney:20260423T180000
DTEND;TZID=Australia/Sydney:20260625T210000
DTSTAMP:20260419T224150
CREATED:20161030T164411Z
LAST-MODIFIED:20260407T230857Z
UID:2300-1776967200-1782421200@www.tbsss.org.au
SUMMARY:Thursday EVE
DESCRIPTION:For Term 2\, 2026\, this term workshop runs for 10 weeks and students attend a 3 hour workshop each week. These workshops are for all skill levels and aim to develop students’ knowledge and understanding of all aspects of creating sculpture in a range of media. Students are encouraged to create works they want\, Teachers are there to give guidance and advice when necessary. Students can start on any term throughout the year.
URL:https://www.tbsss.org.au/class/thursday-evening-workshop/
LOCATION:Tom Bass Sculpture Studio School\,  1A Clara Street\, Erskineville\, NSW\, 2043\, Australia
CATEGORIES:Term Classes
ATTACH;FMTTYPE=image/jpeg:https://www.tbsss.org.au/wp-content/uploads/2016/10/354A7949.jpg
END:VEVENT
BEGIN:VEVENT
DTSTART;TZID=Australia/Sydney:20260425T100000
DTEND;TZID=Australia/Sydney:20260627T130000
DTSTAMP:20260419T224150
CREATED:20161030T164541Z
LAST-MODIFIED:20260416T045452Z
UID:2304-1777111200-1782565200@www.tbsss.org.au
SUMMARY:Saturday AM
DESCRIPTION:For Term 2\, 2026\, this term workshop runs for 10 weeks and students attend a 3 hour workshop each week. These workshops are for all skill levels and aim to develop students’ knowledge and understanding of all aspects of creating sculpture in a range of media. Students are encouraged to create works they want\, Teachers are there to give guidance and advice when necessary. Students can start on any term throughout the year.
URL:https://www.tbsss.org.au/class/saturday-morning-workshop/
LOCATION:Tom Bass Sculpture Studio School\,  1A Clara Street\, Erskineville\, NSW\, 2043\, Australia
CATEGORIES:Term Classes
ATTACH;FMTTYPE=image/jpeg:https://www.tbsss.org.au/wp-content/uploads/2016/10/IMG_6213.jpeg
ORGANIZER;CN="Tom Bass Sculpture Studio School":MAILTO:admin@tbsss.org.au
END:VEVENT
END:VCALENDAR