BEGIN:VCALENDAR
VERSION:2.0
PRODID:-//Tom Bass - ECPv6.15.16//NONSGML v1.0//EN
CALSCALE:GREGORIAN
METHOD:PUBLISH
X-WR-CALNAME:Tom Bass
X-ORIGINAL-URL:https://www.tbsss.org.au
X-WR-CALDESC:Events for Tom Bass
REFRESH-INTERVAL;VALUE=DURATION:PT1H
X-Robots-Tag:noindex
X-PUBLISHED-TTL:PT1H
BEGIN:VTIMEZONE
TZID:Australia/Sydney
BEGIN:STANDARD
TZOFFSETFROM:+1100
TZOFFSETTO:+1000
TZNAME:AEST
DTSTART:20150404T160000
END:STANDARD
BEGIN:DAYLIGHT
TZOFFSETFROM:+1000
TZOFFSETTO:+1100
TZNAME:AEDT
DTSTART:20151003T160000
END:DAYLIGHT
BEGIN:STANDARD
TZOFFSETFROM:+1100
TZOFFSETTO:+1000
TZNAME:AEST
DTSTART:20160402T160000
END:STANDARD
BEGIN:DAYLIGHT
TZOFFSETFROM:+1000
TZOFFSETTO:+1100
TZNAME:AEDT
DTSTART:20161001T160000
END:DAYLIGHT
BEGIN:STANDARD
TZOFFSETFROM:+1100
TZOFFSETTO:+1000
TZNAME:AEST
DTSTART:20170401T160000
END:STANDARD
BEGIN:DAYLIGHT
TZOFFSETFROM:+1000
TZOFFSETTO:+1100
TZNAME:AEDT
DTSTART:20170930T160000
END:DAYLIGHT
BEGIN:STANDARD
TZOFFSETFROM:+1100
TZOFFSETTO:+1000
TZNAME:AEST
DTSTART:20180331T160000
END:STANDARD
BEGIN:DAYLIGHT
TZOFFSETFROM:+1000
TZOFFSETTO:+1100
TZNAME:AEDT
DTSTART:20181006T160000
END:DAYLIGHT
BEGIN:STANDARD
TZOFFSETFROM:+1100
TZOFFSETTO:+1000
TZNAME:AEST
DTSTART:20190406T160000
END:STANDARD
BEGIN:DAYLIGHT
TZOFFSETFROM:+1000
TZOFFSETTO:+1100
TZNAME:AEDT
DTSTART:20191005T160000
END:DAYLIGHT
BEGIN:STANDARD
TZOFFSETFROM:+1100
TZOFFSETTO:+1000
TZNAME:AEST
DTSTART:20200404T160000
END:STANDARD
BEGIN:DAYLIGHT
TZOFFSETFROM:+1000
TZOFFSETTO:+1100
TZNAME:AEDT
DTSTART:20201003T160000
END:DAYLIGHT
BEGIN:STANDARD
TZOFFSETFROM:+1100
TZOFFSETTO:+1000
TZNAME:AEST
DTSTART:20210403T160000
END:STANDARD
BEGIN:DAYLIGHT
TZOFFSETFROM:+1000
TZOFFSETTO:+1100
TZNAME:AEDT
DTSTART:20211002T160000
END:DAYLIGHT
BEGIN:STANDARD
TZOFFSETFROM:+1100
TZOFFSETTO:+1000
TZNAME:AEST
DTSTART:20220402T160000
END:STANDARD
BEGIN:DAYLIGHT
TZOFFSETFROM:+1000
TZOFFSETTO:+1100
TZNAME:AEDT
DTSTART:20221001T160000
END:DAYLIGHT
BEGIN:STANDARD
TZOFFSETFROM:+1100
TZOFFSETTO:+1000
TZNAME:AEST
DTSTART:20230401T160000
END:STANDARD
BEGIN:DAYLIGHT
TZOFFSETFROM:+1000
TZOFFSETTO:+1100
TZNAME:AEDT
DTSTART:20230930T160000
END:DAYLIGHT
BEGIN:STANDARD
TZOFFSETFROM:+1100
TZOFFSETTO:+1000
TZNAME:AEST
DTSTART:20240406T160000
END:STANDARD
BEGIN:DAYLIGHT
TZOFFSETFROM:+1000
TZOFFSETTO:+1100
TZNAME:AEDT
DTSTART:20241005T160000
END:DAYLIGHT
END:VTIMEZONE
BEGIN:VEVENT
DTSTART;TZID=Australia/Sydney:20230708T193000
DTEND;TZID=Australia/Sydney:20230710T020000
DTSTAMP:20260420T052304
CREATED:20230522T010153Z
LAST-MODIFIED:20230613T001257Z
UID:6538-1688844600-1688954400@www.tbsss.org.au
SUMMARY:Alabaster Carving with Carol Crawford
DESCRIPTION:[vc_row][vc_column width=”1/3″][vc_single_image image=”6552″][/vc_column][vc_column width=”2/3″][vc_column_text]Early Bird: $490.30\, Full Fee: $545.30 \nThis workshop is now sold out. You can join the waiting list by emailing admin@tbsss.org.au. \nA unique opportunity to immerse yourself in the world of alabaster carving and learn from popular guest teacher Carol Crawford. \nCarol is a specialist alabaster sculptor who works predominantly with alabaster and who is known for her soft sensuous forms.  Carol will also be assisted by artist Elena Murgia\, who specialises in marble carving.  For this weekend course Carol and Elena will guide you on the use of different hand tools\, and how to realise a beautiful form out of the rough stone you have chosen. \nAlabaster is a very fine\, stable beautiful stone that can be easily carved\, it can be translucent or opaque white\, salmon orange\, brown or blue or a combination. \nFor this workshop you will be working with beautiful white alabaster (translucent and opaque) shipped all the way from Italy. \nThis is a workshop not to be missed! Places are strictly limited and early bookings are encouraged for this popular course. \n* Please note that this course will give participants a good foundation to create a unique alabaster sculpture.  As each person works at an individual pace\, some people may find they need a bit more time to complete their sculpture and this can be done by booking in for some casual workshop classes during term time at TBSSS. \nFees include one piece of stone of up to 2kg\, as well as the use of chisels\, files and finishing sandpapers during the workshop.  Upsizing your piece of stone for the workshop or purchasing additional stone for your own use will also be possible for people attending the workshop. \nEarlybird discount finishes 24 June. \nVisit Carol’s website: www.carolcrawfordsculpture.net[/vc_column_text][/vc_column][/vc_row]
URL:https://www.tbsss.org.au/class/alabaster-carving-2023/
LOCATION:Tom Bass Sculpture Studio School\,  1A Clara Street\, Erskineville\, NSW\, 2043\, Australia
CATEGORIES:Special Workshops
ORGANIZER;CN="Tom Bass Sculpture Studio School":MAILTO:admin@tbsss.org.au
END:VEVENT
BEGIN:VEVENT
DTSTART;TZID=Australia/Sydney:20230212T210000
DTEND;TZID=Australia/Sydney:20230403T013000
DTSTAMP:20260420T052304
CREATED:20201222T005935Z
LAST-MODIFIED:20230202T011858Z
UID:6658-1676235600-1680485400@www.tbsss.org.au
SUMMARY:Term 1 - 2023: Double Figure Life Study with Jenny Pollak
DESCRIPTION:[vc_row][vc_column width=”1/3″][vc_single_image image=”8126″][/vc_column][vc_column width=”2/3″][vc_column_text]The relationship between two figures can give us a unique insight into the abstract possibilities of space and form. This workshop will encourage the student to look for new and interesting solutions to the challenges of depicting the complexity of two bodies in relationship to each other\, bringing a fresh eye to the exploration of rhythm\, negative space\, mass and balance. \nJenny will guide both the beginner and the more experienced artist through the process involved in working with clay from the life model. Students will be encouraged to push their work beyond a merely faithful representation of the body and develop a more personal language and means of expression. \nDuring this 8 week course students will have time to bring their work to a point where it is ready to be fired\, exploiting the facility and beauty of clay as a material that can be transformed from the raw and impermanent to a final and enduring sculptural piece. \nPictured: inspiration from Gustav Seitz\, Two Figures III.[/vc_column_text][/vc_column][/vc_row]
URL:https://www.tbsss.org.au/class/term-1-double-figure/
LOCATION:Tom Bass Sculpture Studio School\,  1A Clara Street\, Erskineville\, NSW\, 2043\, Australia
CATEGORIES:Life Study,Special Workshops
ORGANIZER;CN="Tom Bass Sculpture Studio School":MAILTO:admin@tbsss.org.au
END:VEVENT
BEGIN:VEVENT
DTSTART;TZID=Australia/Sydney:20220706T100000
DTEND;TZID=Australia/Sydney:20220817T163000
DTSTAMP:20260420T052304
CREATED:20220628T004611Z
LAST-MODIFIED:20220706T020712Z
UID:8114-1657101600-1660753800@www.tbsss.org.au
SUMMARY:Modelling from Life: a three-day intensive workshop with Monika Scarrabelotti
DESCRIPTION:[vc_row][vc_column width=”1/3″][vc_single_image image=”7105″][/vc_column][vc_column width=”2/3″][vc_column_text]Wednesday 6 July – Friday 8 July (3 days)\n10.00 am – 4.30 pm\nFees: $355.30 (Earlybird); $395.30 (General) \nA quick\, intensive\, three-day workshop modelling from life in clay. Suitable for all levels\, this course will give beginners the chance to work on their knowledge of proportion\, anatomy and form.  While more advanced students will have the chance to explore compositions and gesture\, developing their own sculptural language in clay. \nThe first day of the workshop will include life drawing\, and completing a series of quick “sketches” in clay using a life model. In the following two days we will settle on a single pose to develop a more resolved sculpture.  This class will offer the option to work without using an armature\, giving participants the option to either fire or cast their finished sculptures in their own time\, if they so choose.[/vc_column_text][/vc_column][/vc_row]
URL:https://www.tbsss.org.au/class/july-3-day-life-study/
LOCATION:Tom Bass Sculpture Studio School\,  1A Clara Street\, Erskineville\, NSW\, 2043\, Australia
CATEGORIES:Life Study
ORGANIZER;CN="Tom Bass Sculpture Studio School":MAILTO:admin@tbsss.org.au
END:VEVENT
BEGIN:VEVENT
DTSTART;TZID=Australia/Sydney:20220117T210000
DTEND;TZID=Australia/Sydney:20220122T030000
DTSTAMP:20260420T052304
CREATED:20211025T030641Z
LAST-MODIFIED:20220115T071109Z
UID:7735-1642453200-1642820400@www.tbsss.org.au
SUMMARY:Summer Program: 5 Day Open Workshop with Wendy Black
DESCRIPTION:[vc_row][vc_column width=”1/3″][vc_single_image image=”5917″][/vc_column][vc_column width=”2/3″][vc_column_text]Earlybird Fee: $460.30*; General Fee: $510.30 \nThis summer join us for an intensive 5 days of making sculpture. This is an open workshop class which will be run by TBSSS teacher Wendy Black. This workshop is for all skill levels. Students have the chance to work on any project they choose and in the media of their choosing. This may include – stone carving (alabaster\, soapstone\, limestone)\, direct plaster\, wire\, clay modelling\, mould making and casting or a ceramic work (to be fired offsite and organised by yourself). \nIt may be a new project or it could be a sculpture that you are already working on. These 5 days are a wonderful chance to have uninterrupted Studio time over the summer! Places are limited and a short online mentoring session is available with Wendy before the workshop to talk about your ideas / project. \nFees include GST and all materials – except stone\, which can be purchased at the Studio. \n*Earlybird available until Monday 27 December 2021[/vc_column_text][/vc_column][/vc_row]
URL:https://www.tbsss.org.au/class/summer-open-workshop-with-wendy-black/
LOCATION:Tom Bass Sculpture Studio School\,  1A Clara Street\, Erskineville\, NSW\, 2043\, Australia
CATEGORIES:Special Workshops
ORGANIZER;CN="Tom Bass Sculpture Studio School":MAILTO:admin@tbsss.org.au
END:VEVENT
BEGIN:VEVENT
DTSTART;TZID=Australia/Sydney:20210626T100000
DTEND;TZID=Australia/Sydney:20210626T160000
DTSTAMP:20260420T052304
CREATED:20190611T021232Z
LAST-MODIFIED:20210623T042015Z
UID:4996-1624701600-1624723200@www.tbsss.org.au
SUMMARY:Ice Sculpture with guest teacher Anne Marie Taberdo
DESCRIPTION:Saturday\, 26 June 2021 \n10am – 4pm \nBack by popular demand…the ultimate winter experience! \nAnne Marie Taberdo is a practitioner of the ephemeral art of ice sculpting. Working internationally with both natural and manufactured ice to create large-scale ice exhibitions from Alaska to Germany\, ice musical instruments in Norway and event pieces in Sydney\, she is accustomed to the many intricacies of the material in various environments. \nIn this one-of-a-kind TBSSS workshop\, Anne Marie will guide and develop your understanding of working with an ever-changing material. You will work against time using various carving techniques with chisels and other ice adapted hand tools on your own block of crystal clear ice. By the end of the workshop you will have experienced one of the most unique ephemeral sculpting materials that has been sculpted and built with for centuries – but don’t forget to photograph it! \nAll materials supplied (ice\, tools\, gloves and waterproof apron). Places limited. \nBasic kitchen facilities are available\, tea and coffee is provided\, local cafes are a short walk away.
URL:https://www.tbsss.org.au/class/ice-sculpture/
LOCATION:Tom Bass Sculpture Studio School\,  1A Clara Street\, Erskineville\, NSW\, 2043\, Australia
CATEGORIES:Special Workshops
ORGANIZER;CN="Tom Bass Sculpture Studio School":MAILTO:admin@tbsss.org.au
END:VEVENT
BEGIN:VEVENT
DTSTART;TZID=Australia/Sydney:20201011T213000
DTEND;TZID=Australia/Sydney:20201207T023000
DTSTAMP:20260420T052304
CREATED:20190612T053620Z
LAST-MODIFIED:20200918T015602Z
UID:5018-1602451800-1607308200@www.tbsss.org.au
SUMMARY:Sunday Life Study - Term 4
DESCRIPTION:Term 4 2020 Life Study Class with Jenny Pollak \n9 Sundays: 11th October – 6th December\n10:30am – 3:30pm \nBookings now open! \nIn a year that has required us to dig deeper into our inner resources\, this life study course offers the opportunity to find an expression for how we might physically represent emotion in the figure study. \nWhile bringing a fresh eye to the exploration of rhythm\, negative space\, weights and balances\, the student will be encouraged to consider how they might go beyond a merely representational description of the life model and draw out a deeper emotional interpretation. \nThis workshop will guide both the beginner and the more experienced artist through the process involved in working with clay from the life model. Jenny will encourage students to push their work beyond a merely faithful representation of the body and develop a more personal language or means of expression. \nDuring this 9 week course students will have time to bring their work to a point where it is hollowed out and ready to be dried for firing\, exploiting the facility and beauty of clay as a material that can be transformed from the raw and impermanent to a final and enduring sculptural piece. \nFees:\nEarlybird: $785.30\nGeneral: $875.30 \n(pictured above: Michaelangelo\, Atlas Slave)
URL:https://www.tbsss.org.au/class/life-study-term4-2020/
LOCATION:Tom Bass Sculpture Studio School\,  1A Clara Street\, Erskineville\, NSW\, 2043\, Australia
CATEGORIES:Life Study
ORGANIZER;CN="Tom Bass Sculpture Studio School":MAILTO:admin@tbsss.org.au
END:VEVENT
BEGIN:VEVENT
DTSTART;TZID=Australia/Sydney:20200711T193000
DTEND;TZID=Australia/Sydney:20200713T023000
DTSTAMP:20260420T052304
CREATED:20170206T023407Z
LAST-MODIFIED:20200601T014553Z
UID:2617-1594495800-1594607400@www.tbsss.org.au
SUMMARY:Alabaster Carving with Carol Crawford
DESCRIPTION:[vc_row][vc_column width=”1/3″][vc_single_image image=”3732″][/vc_column][vc_column width=”2/3″][vc_column_text]Fee: $495.30\, Early Bird Fee: $450.30 \nCarol Crawford\, a specialist alabaster sculptor\, will be teaching this weekend workshop.  Carol works almost exclusively in alabaster of different kinds\, and is known for her soft sensuous forms.  She will guide you on the use of different hand tools\, and how to realise a beautiful form out of the rough stone you have chosen. Alabaster is a very fine\, stable beautiful stone that can be easily carved\, it can be translucent or opaque white\, salmon orange\, yellow or green or a combination. For this workshop you will be working with beautiful white alabaster (translucent and opaque) shipped all the way from Italy! Places are strictly limited and early bookings are encouraged for this popular course. \nFees include one piece of stone. Additional stone will be available for purchase. \nVisit Carol’s website: www.carolcrawfordsculpture.net \nEarly Bird Discount valid until Sat 20 June 2020.[/vc_column_text][/vc_column][/vc_row]
URL:https://www.tbsss.org.au/class/alabaster-carving-carol-crawford/
LOCATION:Tom Bass Sculpture Studio School\,  1A Clara Street\, Erskineville\, NSW\, 2043\, Australia
CATEGORIES:Special Workshops
ORGANIZER;CN="Tom Bass Sculpture Studio School":MAILTO:admin@tbsss.org.au
END:VEVENT
BEGIN:VEVENT
DTSTART;TZID=Australia/Sydney:20191124T004500
DTEND;TZID=Australia/Sydney:20191124T030000
DTSTAMP:20260420T052304
CREATED:20191014T235416Z
LAST-MODIFIED:20191111T015151Z
UID:5380-1574556300-1574564400@www.tbsss.org.au
SUMMARY:Mentoring with special guest teacher Jim Croke
DESCRIPTION:[vc_row][vc_column width=”1/3″][vc_single_image image=”5386″ img_size=”full”][/vc_column][vc_column width=”2/3″][vc_column_text]Saturday 23rd November\n1:45pm – 4pm\nLimited to 6 students per class. \nThis is an invaluable opportunity for senior students and emerging artists to receive mentoring from sculptor and TBSSS guest teacher Jim Croke. This is an intimate class – only six participants (per session) will have the opportunity to attend and it will take form as a group critique. \nParticipants will each have 20mins allocated to show and discuss their work with Jim. Jim will be able to offer guidance\, advice and support on how you can push your sculpture to the next level. As this will be done in a group environment\, participants will benefit and learn from hearing Jim speak with each participant. \nAbout Jim Croke\nWith over thirty-five years of exhibiting experience\, Jim Croke has an admirable reputation and a revered presence in the Sydney sculpture scene. His works have been acquired by the University of Sydney Union Collection\, the UTS Union Collection\, Goulburn Regional Art Gallery and Artbank\, among other Australian collections. Until recently Jim was Head of Sculpture at the National Art School\, Sydney and he continues to teach special courses at NAS. Jim has always had teaching as a prominent part of his career\, taking him around Australia and Europe.[/vc_column_text][/vc_column][/vc_row]
URL:https://www.tbsss.org.au/class/mentoring-jim-croke-nov/
LOCATION:Tom Bass Sculpture Studio School\,  1A Clara Street\, Erskineville\, NSW\, 2043\, Australia
CATEGORIES:Special Workshops
END:VEVENT
BEGIN:VEVENT
DTSTART;TZID=Australia/Sydney:20190207T003000
DTEND;TZID=Australia/Sydney:20190411T023000
DTSTAMP:20260420T052304
CREATED:20181116T011548Z
LAST-MODIFIED:20190204T005910Z
UID:4262-1549499400-1554949800@www.tbsss.org.au
SUMMARY:Collaborative Sculpture Prize Workshop
DESCRIPTION:[vc_row][vc_column width=”1/2″][vc_single_image image=”4462″ img_size=”full”][/vc_column][vc_column width=”1/2″][vc_column_text]This new 10 week workshop will give participants the opportunity to work collaboratively on a sculpture project with the aim of submitting the sculpture to sculpture prizes in 2019. Facilitated by senior TBSSS teacher and regular prize entrant and finalist Wendy Black\, Wendy will guide the group through the process of making a collaborative sculpture. As a group\, participants will come up with a concept to match the prize brief\, test\, experiment and make the sculpture/s and then go through the process of documenting\, writing and submitting the application/s. \nLimited places available for this workshop (max 8 students). Standard workshop materials covered\, any special materials will need to be financed by the group. \nTerm 1 2019\nWednesdays 1:30pm – 4:30pm \nEarlybird Special: $470\nGeneral: $520[/vc_column_text][/vc_column][/vc_row]
URL:https://www.tbsss.org.au/class/collab-sculpture/
LOCATION:Tom Bass Sculpture Studio School\,  1A Clara Street\, Erskineville\, NSW\, 2043\, Australia
END:VEVENT
BEGIN:VEVENT
DTSTART;TZID=Australia/Sydney:20180119T210000
DTEND;TZID=Australia/Sydney:20180122T030000
DTSTAMP:20260420T052304
CREATED:20171124T014054Z
LAST-MODIFIED:20180103T003301Z
UID:3427-1516395600-1516590000@www.tbsss.org.au
SUMMARY:The Fabric of Nature w/ Ingrid Morley at Jenolan Caves
DESCRIPTION:[vc_row 0=””][vc_column width=”1/2″][vc_single_image image=”3431″ img_size=”full”][/vc_column][vc_column width=”1/2″][vc_column_text 0=””]A 3 day hands-on intensive course run within cooee of the world heritage area of the Jenolan Caves\, the ideal setting to focus on developing your confidence and skills to communicate ideas in a non-representational form. \nDrawing on the natural world\, both familiar and unfamiliar\, you will take the steps to form-up a 3D work using modelling materials ( clay\, plasticine or wax)\, fabricating materials ( cardboard\, steel\, balsa wood) or found objects. \nContemplate the surrounding landscape or bring a sculpture\, drawing or an image of an idea you would like to scale up or develop and Ingrid will assist you to create a work in three dimensions. \nSelected works can be kiln fired and welding is available to a limited number of students. All levels of experience are encouraged. \nMaterials  \nA broad selection of sculpting materials and methods are available to students. \nIt would assist organisation if students could indicate their preferences for a method or material when they enrol for the course. \nAll students who are interested in using the welding facility must indicate their interest at the time of enrolling. Kiln firing is available for selected works after the required drying time. \nBring: \n\nnotebook/pencil/drawing material\ncamera or cameraphone\ntowel\ncutting tool (for clay)\nclay tools (for those who have them and intend working in clay)\nClosed shoes are a must for working in the studio spaces.\n\nVenue: \nThe workshop is located in the remote Jenolan Karst Conservation Reserve\, Blue Mountains National Park on the western edge of the Blue Mountains World Heritage Area\, 3 hours drive from Sydney. A kitchen facility is available to students at all times. \nAccommodation: \n\nLimited accommodation is available in two on-site caravans on a first come first served basis; shared kitchen and bathroom facilities. $50 per night\, + $10  per extra person. Bring your own linen. (book through Ingrid)\nJenolan Caves House is 3km away and has budget accommodation at $70 per night\, a range of more salubrious options are available. Call them (02) 6359 3900.\n3 km in the other direction is Jenolan Caves Cabins\, each cabin accommodating 6 people. One queen-size bed and 4 bunks per cabin. Kitchenette and bathroom facilities in each cabin at approximately $165 per double + $15.00 per extra adult per night. Call them (02) 6335 6239.\n\nIngrid’s landline number is available through the TBSSS office. \nEarly-Bird available until Jan 5[/vc_column_text][/vc_column][/vc_row]
URL:https://www.tbsss.org.au/class/fabric-nature-w-ingrid-morley-jenolan-caves/
LOCATION:Tom Bass Sculpture Studio School\,  1A Clara Street\, Erskineville\, NSW\, 2043\, Australia
CATEGORIES:Special Workshops
END:VEVENT
BEGIN:VEVENT
DTSTART;TZID=Australia/Sydney:20180105T200000
DTEND;TZID=Australia/Sydney:20180129T030000
DTSTAMP:20260420T052304
CREATED:20170424T022002Z
LAST-MODIFIED:20180110T021112Z
UID:2866-1515182400-1517194800@www.tbsss.org.au
SUMMARY:Intensive Marble Carving Workshops with special guest teacher Alnassar - 5/10 Day Workshops
DESCRIPTION:[vc_row][vc_column width=”1/3″][vc_single_image image=”2346″ img_size=”full”][/vc_column][vc_column width=”2/3″][vc_column_text]Limited places available\, bookings open 8 May\, 11am. \nItaly comes to Erskineville! \nYou will learn to use traditional hand-tools and techniques for carving\, including methods of transferring ideas onto a piece of marble and finding form within the stone. The aim of this carving workshop is to complete a carved sculpture and return home with a finished piece. Participants will work directly on the famous White Statuario Marble from Carrara to acquire basic skills and to understand the nature of the material. \nAbout Alnassar: Special Guest teacher Alnassar was Syrian Born. He lives and works in Carrara\, Italy among the white Michelangelo marble quarries\, where he teaches sculpture courses and works on small and monumental sculptures. His works have been shown in individual and group exhibitions internationally\, including participation in ArtsCape Biennial 2010. Visit Alnassar’s website here.[/vc_column_text][/vc_column][/vc_row]
URL:https://www.tbsss.org.au/class/intensive-marble-carving-workshops-special-guest-teacher-alnassar-5-day-workshops/
LOCATION:Tom Bass Sculpture Studio School\,  1A Clara Street\, Erskineville\, NSW\, 2043\, Australia
CATEGORIES:Special Workshops
END:VEVENT
BEGIN:VEVENT
DTSTART;TZID=Australia/Sydney:20171007T210000
DTEND;TZID=Australia/Sydney:20171009T030000
DTSTAMP:20260420T052304
CREATED:20170308T020437Z
LAST-MODIFIED:20170921T031732Z
UID:2747-1507410000-1507518000@www.tbsss.org.au
SUMMARY:Sculptural Ceramics with Odette Ireland
DESCRIPTION:[vc_row][vc_column width=”1/2″][vc_single_image image=”1974″ img_size=”full”][/vc_column][vc_column width=”1/2″][vc_column_text]Working sculpturally you will learn different hand building techniques that will enable you to complete small sculptures ready for bisque firing. There will be the opportunity to work with two very different clays – Porcelain and Raku\, each will give you beautiful results. Instruction will also be given on applied patinas to finish your work. This workshop is suitable for all levels of experience. Materials included in workshop fees. However\, there will be additional clay and firing costs for larger sculptures. \n*Early Bird discount available until 22 September.[/vc_column_text][/vc_column][/vc_row]
URL:https://www.tbsss.org.au/class/sculpturalceramicswithodetteireland/
LOCATION:Tom Bass Sculpture Studio School\,  1A Clara Street\, Erskineville\, NSW\, 2043\, Australia
CATEGORIES:Special Workshops
END:VEVENT
BEGIN:VEVENT
DTSTART;TZID=Australia/Sydney:20170207T203000
DTEND;TZID=Australia/Sydney:20170412T023000
DTSTAMP:20260420T052304
CREATED:20161025T003953Z
LAST-MODIFIED:20180122T013244Z
UID:2251-1486499400-1491964200@www.tbsss.org.au
SUMMARY:Life Study Term 1\, 2018
DESCRIPTION:The 10 week (11 day course) offers alternative technical solutions each term to solve the challenges of translating your work from an ephemeral study into a permanent sculpture. \nGain technical knowledge with an alternative mould making and casting method each term; ideally students will undertake both terms\, as the course material is set to build from one term to the next. However\, we can accommodate students who wish to only book for one term. \nThis course will not be conventionally run as it has over the years at the TBSSS. The technical applications\, e.g. Mould making and casting are traditional\, the understanding of this method in encouraged\, however\, the approach to this technical question changes each term\, keeping alternative methods of bringing ephemeral work i.e. in clay\, into a permanence\, alive with contemporary solutions.
URL:https://www.tbsss.org.au/class/life-study-term-1-2018/
LOCATION:Tom Bass Sculpture Studio School\,  1A Clara Street\, Erskineville\, NSW\, 2043\, Australia
CATEGORIES:Life Study
END:VEVENT
BEGIN:VEVENT
DTSTART;TZID=Australia/Sydney:20170112T200000
DTEND;TZID=Australia/Sydney:20170129T030000
DTSTAMP:20260420T052304
CREATED:20161101T000103Z
LAST-MODIFIED:20161221T002608Z
UID:2343-1484251200-1485658800@www.tbsss.org.au
SUMMARY:Intensive Marble Carving Workshops with special guest teacher Alnassar
DESCRIPTION:[vc_row][vc_column width=”1/3″][vc_single_image image=”2346″ img_size=”full”][/vc_column][vc_column width=”2/3″][vc_column_text]Limited places available… \nItaly comes to Erskineville! \nYou will learn to use traditional hand-tools and techniques for carving\, including methods of transferring ideas onto a piece of marble and finding form within the stone. The aim of this carving workshop is to complete a carved sculpture and return home with a finished piece. Participants will work directly on the famous White Statuario Marble from Carrara to acquire basic skills and to understand the nature of the material. \nAbout Alnassar: Special Guest teacher Alnassar was Syrian Born. He lives and works in Carrara\, Italy among the white Michelangelo marble quarries\, where he teaches sculpture courses and works on small and monumental sculptures. His works have been shown in individual and group exhibitions internationally\, including participation in ArtsCape Biennial 2010. Visit Alnassar’s website here.[/vc_column_text][/vc_column][/vc_row]
URL:https://www.tbsss.org.au/class/intensive-marble-carving-workshops-special-guest-teacher-alnassar/
LOCATION:Tom Bass Sculpture Studio School\,  1A Clara Street\, Erskineville\, NSW\, 2043\, Australia
CATEGORIES:Special Workshops
END:VEVENT
BEGIN:VEVENT
DTSTART;TZID=Australia/Sydney:20161101T210000
DTEND;TZID=Australia/Sydney:20161106T030000
DTSTAMP:20260420T052304
CREATED:20161029T152331Z
LAST-MODIFIED:20161207T003000Z
UID:2274-1478034000-1478401200@www.tbsss.org.au
SUMMARY:Sculpture in Portrait: 5 Day Intensive Workshop with Wendy Black
DESCRIPTION:[vc_row][vc_column width=”1/3″][vc_single_image image=”1969″ img_size=”full”][/vc_column][vc_column width=”2/3″][vc_column_text]“The 5 day portraiture workshop was an amazing experience\, with an amazing group of people.  Everyone was thrilled with what they had achieved in the time and full of praise for the instruction and guidance from Wendy.” Janet Coyne\, sculptor and participant at TBSSS Summer School 2013. \nWendy Black has extensive experience in working with portraits\, her portrait ‘Benedicta’\, exhibited in the Portrait Artists Exhibition at Parliament House\, Sydney 2013. \nOver the first three days\, Wendy will guide you through the process of making a portrait study in clay from a life model. The final two days you will make a plaster waste mould and cast in plaster. \nPlease note if further classes are required to complete the work\, there will be an extra fee. \n*Early Bird Discount available until 21 Dec[/vc_column_text][/vc_column][/vc_row]
URL:https://www.tbsss.org.au/class/sculpture-portrait-5-day-intensive-workshop-wendy-black/
LOCATION:Tom Bass Sculpture Studio School\,  1A Clara Street\, Erskineville\, NSW\, 2043\, Australia
CATEGORIES:Special Workshops
END:VEVENT
END:VCALENDAR